View In:
ArcGIS JavaScript
ArcGIS Online Map Viewer
ArcGIS Earth
ArcMap
View Footprint In:
ArcGIS Online Map Viewer
Service Description: 矿山植被覆盖度产品是基于Landsat8、高分、Sentinel2等卫星遥感数据,采用像元二分法生成的数据产品。该产品有效反映矿区植被覆盖分布状况。产品类型为32位浮点型,值在0和1之间,用百分数表示,数值越大表示植被覆盖度越高:0~10%表示五级植被覆盖;10%~25%表示四级植被覆盖;25%~50%表示三级覆盖;50%~75%表示二级覆盖;75%~100%表示一级覆盖。植被覆盖度产品进行时间序列上的遥感分析,对植被变化状况监测、植被资源合理利用和其它生态环境相关领域的研究有十分重要的参考意义。
Name: 5_大数据平台项目数据管理_标准产品/VFC
Description: 矿山植被覆盖度产品是基于Landsat8、高分、Sentinel2等卫星遥感数据,采用像元二分法生成的数据产品。该产品有效反映矿区植被覆盖分布状况。产品类型为32位浮点型,值在0和1之间,用百分数表示,数值越大表示植被覆盖度越高:0~10%表示五级植被覆盖;10%~25%表示四级植被覆盖;25%~50%表示三级覆盖;50%~75%表示二级覆盖;75%~100%表示一级覆盖。植被覆盖度产品进行时间序列上的遥感分析,对植被变化状况监测、植被资源合理利用和其它生态环境相关领域的研究有十分重要的参考意义。
Single Fused Map Cache: false
Extent:
XMin: 41
YMin: -10600583
XMax: 10600655
YMax: 31
Spatial Reference: 4326
(4326)
Initial Extent:
XMin: 41
YMin: -10600583
XMax: 10600655
YMax: 31
Spatial Reference: 4326
(4326)
Full Extent:
XMin: 41
YMin: -10600583
XMax: 10600655
YMax: 31
Spatial Reference: 4326
(4326)
Pixel Size X: 1.0600614E7
Pixel Size Y: 1.0600614E7
Band Count: 1
Pixel Type: F32
RasterFunction Infos: {"rasterFunctionInfos": [
{
"name": "Map_VFC",
"description": "A raster function template.",
"help": ""
},
{
"name": "None",
"description": "",
"help": ""
}
]}
Mensuration Capabilities: None
Has Histograms: true
Has Colormap: false
Has Multi Dimensions : false
Rendering Rule:
Min Scale: 0
Max Scale: 0
Copyright Text:
Service Data Type: esriImageServiceDataTypeGeneric
Min Values: 0
Max Values: 100
Mean Values: 52.02504351608313
Standard Deviation Values: 26.058280229415274
Object ID Field: objectid
Fields:
-
objectid
(
type: esriFieldTypeOID, alias: objectid
)
-
name
(
type: esriFieldTypeString, alias: name, length: 200
)
-
minps
(
type: esriFieldTypeDouble, alias: minps
)
-
maxps
(
type: esriFieldTypeDouble, alias: maxps
)
-
lowps
(
type: esriFieldTypeDouble, alias: lowps
)
-
highps
(
type: esriFieldTypeDouble, alias: highps
)
-
category
(
type: esriFieldTypeInteger, alias: category
, Coded Values:
[0: Unknown]
, [1: Primary]
, [2: Overview]
, ...6 more...
)
-
tag
(
type: esriFieldTypeString, alias: tag, length: 100
)
-
groupname
(
type: esriFieldTypeString, alias: groupname, length: 100
)
-
productname
(
type: esriFieldTypeString, alias: productname, length: 100
)
-
centerx
(
type: esriFieldTypeDouble, alias: centerx
)
-
centery
(
type: esriFieldTypeDouble, alias: centery
)
-
zorder
(
type: esriFieldTypeInteger, alias: zorder
)
-
shape
(
type: esriFieldTypeGeometry, alias: shape
)
-
jobid
(
type: esriFieldTypeString, alias: 任务编号, length: 19
)
-
st_area(shape)
(
type: esriFieldTypeDouble, alias: st_area(shape)
)
-
st_length(shape)
(
type: esriFieldTypeDouble, alias: st_length(shape)
)
Default Mosaic Method: Northwest
Allowed Mosaic Methods: NorthWest,Center,LockRaster,ByAttribute,Nadir,Viewpoint,Seamline,None
SortField:
SortValue: null
Mosaic Operator: First
Default Compression Quality: 75
Default Resampling Method: Bilinear
Max Record Count: 1000
Max Image Height: 4100
Max Image Width: 15000
Max Download Image Count: 20
Max Mosaic Image Count: 40
Allow Raster Function: true
Allow Copy: null
Allow Analysis: null
Allow Compute TiePoints: false
Supports Statistics: true
Supports Advanced Queries: true
Use StandardizedQueries: true
Raster Type Infos:
Name: Raster Dataset
Description: Supports all ArcGIS Raster Datasets
Help:
Has Raster Attribute Table: false
Edit Fields Info: null
Ownership Based AccessControl For Rasters: null
Child Resources:
Info
Histograms
Key Properties
Legend
Raster Function Infos
Supported Operations:
Export Image
Query
Identify
Compute Histograms
Compute Statistics Histograms
Get Samples
Compute Class Statistics
Query Boundary
Compute Pixel Location
Validate
Project