{ "currentVersion": 10.81, "serviceDescription": "
矿山植被覆盖度产品是基于Landsat8、高分、Sentinel2等卫星遥感数据,采用像元二分法生成的数据产品。该产品有效反映矿区植被覆盖分布状况。产品类型为32位浮点型,值在0和1之间,用百分数表示,数值越大表示植被覆盖度越高:0~10%表示五级植被覆盖;10%~25%表示四级植被覆盖;25%~50%表示三级覆盖;50%~75%表示二级覆盖;75%~100%表示一级覆盖。植被覆盖度产品进行时间序列上的遥感分析,对植被变化状况监测、植被资源合理利用和其它生态环境相关领域的研究有十分重要的参考意义。<\/SPAN><\/P><\/DIV><\/DIV><\/DIV>",
"name": "5_大数据平台项目数据管理_标准产品/VFC",
"description": " 矿山植被覆盖度产品是基于Landsat8、高分、Sentinel2等卫星遥感数据,采用像元二分法生成的数据产品。该产品有效反映矿区植被覆盖分布状况。产品类型为32位浮点型,值在0和1之间,用百分数表示,数值越大表示植被覆盖度越高:0~10%表示五级植被覆盖;10%~25%表示四级植被覆盖;25%~50%表示三级覆盖;50%~75%表示二级覆盖;75%~100%表示一级覆盖。植被覆盖度产品进行时间序列上的遥感分析,对植被变化状况监测、植被资源合理利用和其它生态环境相关领域的研究有十分重要的参考意义。<\/SPAN><\/P><\/DIV><\/DIV><\/DIV>",
"extent": {
"xmin": 41,
"ymin": -10600583,
"xmax": 10600655,
"ymax": 31,
"spatialReference": {
"wkid": 4326,
"latestWkid": 4326
}
},
"initialExtent": {
"xmin": 41,
"ymin": -10600583,
"xmax": 10600655,
"ymax": 31,
"spatialReference": {
"wkid": 4326,
"latestWkid": 4326
}
},
"fullExtent": {
"xmin": 41,
"ymin": -10600583,
"xmax": 10600655,
"ymax": 31,
"spatialReference": {
"wkid": 4326,
"latestWkid": 4326
}
},
"pixelSizeX": 10600614,
"pixelSizeY": 10600614,
"bandCount": 1,
"pixelType": "F32",
"minPixelSize": 0,
"maxPixelSize": 0,
"copyrightText": "",
"serviceDataType": "esriImageServiceDataTypeGeneric",
"minValues": [
0
],
"maxValues": [
100
],
"meanValues": [
52.02504351608313
],
"stdvValues": [
26.058280229415274
],
"objectIdField": "objectid",
"fields": [
{
"name": "objectid",
"type": "esriFieldTypeOID",
"alias": "objectid",
"domain": null
},
{
"name": "name",
"type": "esriFieldTypeString",
"alias": "name",
"domain": null,
"length": 200
},
{
"name": "minps",
"type": "esriFieldTypeDouble",
"alias": "minps",
"domain": null
},
{
"name": "maxps",
"type": "esriFieldTypeDouble",
"alias": "maxps",
"domain": null
},
{
"name": "lowps",
"type": "esriFieldTypeDouble",
"alias": "lowps",
"domain": null
},
{
"name": "highps",
"type": "esriFieldTypeDouble",
"alias": "highps",
"domain": null
},
{
"name": "category",
"type": "esriFieldTypeInteger",
"alias": "category",
"domain": {
"type": "codedValue",
"name": "MosaicCatalogItemCategoryDomain",
"description": "目录项类别。",
"codedValues": [
{
"name": "Unknown",
"code": 0
},
{
"name": "Primary",
"code": 1
},
{
"name": "Overview",
"code": 2
},
{
"name": "Unprocessed Overview",
"code": 3
},
{
"name": "Partial Overview",
"code": 4
},
{
"name": "Inactive",
"code": 5
},
{
"name": "Uploaded",
"code": 253
},
{
"name": "Incomplete",
"code": 254
},
{
"name": "Custom",
"code": 255
}
],
"mergePolicy": "esriMPTDefaultValue",
"splitPolicy": "esriSPTDefaultValue"
}
},
{
"name": "tag",
"type": "esriFieldTypeString",
"alias": "tag",
"domain": null,
"length": 100
},
{
"name": "groupname",
"type": "esriFieldTypeString",
"alias": "groupname",
"domain": null,
"length": 100
},
{
"name": "productname",
"type": "esriFieldTypeString",
"alias": "productname",
"domain": null,
"length": 100
},
{
"name": "centerx",
"type": "esriFieldTypeDouble",
"alias": "centerx",
"domain": null
},
{
"name": "centery",
"type": "esriFieldTypeDouble",
"alias": "centery",
"domain": null
},
{
"name": "zorder",
"type": "esriFieldTypeInteger",
"alias": "zorder",
"domain": null
},
{
"name": "shape",
"type": "esriFieldTypeGeometry",
"alias": "shape",
"domain": null
},
{
"name": "jobid",
"type": "esriFieldTypeString",
"alias": "任务编号",
"domain": null,
"length": 19
},
{
"name": "st_area(shape)",
"type": "esriFieldTypeDouble",
"alias": "st_area(shape)",
"domain": null
},
{
"name": "st_length(shape)",
"type": "esriFieldTypeDouble",
"alias": "st_length(shape)",
"domain": null
}
],
"capabilities": "Image,Metadata,Catalog",
"defaultMosaicMethod": "Northwest",
"allowedMosaicMethods": "NorthWest,Center,LockRaster,ByAttribute,Nadir,Viewpoint,Seamline,None",
"sortField": "",
"sortValue": null,
"sortAscending": true,
"mosaicOperator": "First",
"maxDownloadSizeLimit": 2048,
"defaultCompressionQuality": 75,
"defaultResamplingMethod": "Bilinear",
"maxImageHeight": 4100,
"maxImageWidth": 15000,
"maxRecordCount": 1000,
"maxDownloadImageCount": 20,
"maxMosaicImageCount": 40,
"allowRasterFunction": true,
"rasterFunctionInfos": [
{
"name": "Map_VFC",
"description": "A raster function template.",
"help": ""
},
{
"name": "None",
"description": "",
"help": ""
}
],
"rasterTypeInfos": [
{
"name": "Raster Dataset",
"description": "Supports all ArcGIS Raster Datasets",
"help": ""
}
],
"mensurationCapabilities": "None",
"hasHistograms": true,
"hasColormap": false,
"hasRasterAttributeTable": false,
"minScale": 0,
"maxScale": 0,
"exportTilesAllowed": false,
"hasMultidimensions": false,
"supportsStatistics": true,
"supportsAdvancedQueries": true,
"editFieldsInfo": null,
"ownershipBasedAccessControlForRasters": null,
"allowComputeTiePoints": false,
"useStandardizedQueries": true,
"advancedQueryCapabilities": {
"useStandardizedQueries": true,
"supportsStatistics": true,
"supportsOrderBy": true,
"supportsDistinct": true,
"supportsPagination": true
},
"spatialReference": {
"wkid": 4326,
"latestWkid": 4326
}
}