View In:
ArcGIS JavaScript
ArcGIS Online Map Viewer
ArcGIS Earth
ArcMap
View Footprint In:
ArcGIS Online Map Viewer
Service Description: 温度植被干旱指数产品是基于Landsat8、Sentinel2等卫星遥感数据,采用均值合成法生成的数据产品。该产品可有效反映植被覆盖区域表层的土壤水分干旱程度及空间分布状况。产品类型为32位浮点型,值在0和1之间,数值越大表示土壤湿度越低,干旱程度越高,以TVDI作为土壤湿度分级指标,将土壤湿度分为5个层次:极干旱(0.8<TVDI≤1)、干旱(0.6<TVDI≤0.8)、正常(0.4<TVDI≤0.6)、湿润(0.2<TVDI≤0.4)、极湿润(0<TVDI≤0.2)。TVDI同时与归一化植被指数(NDVI)和地表温度(LST)相关,可用于干旱监测,尤其是监测特定年内某一时期整个区域的相对干旱程度,并可用于研究干旱程度的空间变化特征。重点应用于植被覆盖区域表层土壤水分反演。
Name: 5_大数据平台项目数据管理_标准产品/TVDI
Description: 温度植被干旱指数产品是基于Landsat8、Sentinel2等卫星遥感数据,采用均值合成法生成的数据产品。该产品可有效反映植被覆盖区域表层的土壤水分干旱程度及空间分布状况。产品类型为32位浮点型,值在0和1之间,数值越大表示土壤湿度越低,干旱程度越高,以TVDI作为土壤湿度分级指标,将土壤湿度分为5个层次:极干旱(0.8<TVDI≤1)、干旱(0.6<TVDI≤0.8)、正常(0.4<TVDI≤0.6)、湿润(0.2<TVDI≤0.4)、极湿润(0<TVDI≤0.2)。TVDI同时与归一化植被指数(NDVI)和地表温度(LST)相关,可用于干旱监测,尤其是监测特定年内某一时期整个区域的相对干旱程度,并可用于研究干旱程度的空间变化特征。重点应用于植被覆盖区域表层土壤水分反演。
Single Fused Map Cache: false
Extent:
XMin: 41
YMin: -10600583
XMax: 10600655
YMax: 31
Spatial Reference: 4326
(4326)
Initial Extent:
XMin: 41
YMin: -10600583
XMax: 10600655
YMax: 31
Spatial Reference: 4326
(4326)
Full Extent:
XMin: 41
YMin: -10600583
XMax: 10600655
YMax: 31
Spatial Reference: 4326
(4326)
Pixel Size X: 1.0600614E7
Pixel Size Y: 1.0600614E7
Band Count: 1
Pixel Type: F32
RasterFunction Infos: {"rasterFunctionInfos": [
{
"name": "Map_TVDI",
"description": "栅格函数模板。",
"help": ""
},
{
"name": "None",
"description": "",
"help": ""
}
]}
Mensuration Capabilities: None
Has Histograms: true
Has Colormap: false
Has Multi Dimensions : false
Rendering Rule:
Min Scale: 0
Max Scale: 0
Copyright Text:
Service Data Type: esriImageServiceDataTypeGeneric
Min Values: 0
Max Values: 100
Mean Values: 64.21507937147793
Standard Deviation Values: 11.294729929132062
Object ID Field: objectid
Fields:
-
objectid
(
type: esriFieldTypeOID, alias: objectid
)
-
name
(
type: esriFieldTypeString, alias: name, length: 200
)
-
minps
(
type: esriFieldTypeDouble, alias: minps
)
-
maxps
(
type: esriFieldTypeDouble, alias: maxps
)
-
lowps
(
type: esriFieldTypeDouble, alias: lowps
)
-
highps
(
type: esriFieldTypeDouble, alias: highps
)
-
category
(
type: esriFieldTypeInteger, alias: category
, Coded Values:
[0: Unknown]
, [1: Primary]
, [2: Overview]
, ...6 more...
)
-
tag
(
type: esriFieldTypeString, alias: tag, length: 100
)
-
groupname
(
type: esriFieldTypeString, alias: groupname, length: 100
)
-
productname
(
type: esriFieldTypeString, alias: productname, length: 100
)
-
centerx
(
type: esriFieldTypeDouble, alias: centerx
)
-
centery
(
type: esriFieldTypeDouble, alias: centery
)
-
zorder
(
type: esriFieldTypeInteger, alias: zorder
)
-
shape
(
type: esriFieldTypeGeometry, alias: shape
)
-
jobid
(
type: esriFieldTypeString, alias: 任务编号, length: 19
)
-
st_area(shape)
(
type: esriFieldTypeDouble, alias: st_area(shape)
)
-
st_length(shape)
(
type: esriFieldTypeDouble, alias: st_length(shape)
)
Default Mosaic Method: Northwest
Allowed Mosaic Methods: NorthWest,Center,LockRaster,ByAttribute,Nadir,Viewpoint,Seamline,None
SortField:
SortValue: null
Mosaic Operator: First
Default Compression Quality: 75
Default Resampling Method: Bilinear
Max Record Count: 1000
Max Image Height: 4100
Max Image Width: 15000
Max Download Image Count: 20
Max Mosaic Image Count: 20
Allow Raster Function: true
Allow Copy: null
Allow Analysis: null
Allow Compute TiePoints: false
Supports Statistics: true
Supports Advanced Queries: true
Use StandardizedQueries: true
Raster Type Infos:
Name: Raster Dataset
Description: Supports all ArcGIS Raster Datasets
Help:
Has Raster Attribute Table: false
Edit Fields Info: null
Ownership Based AccessControl For Rasters: null
Child Resources:
Info
Histograms
Key Properties
Legend
Raster Function Infos
Supported Operations:
Export Image
Query
Identify
Compute Histograms
Compute Statistics Histograms
Get Samples
Compute Class Statistics
Query Boundary
Compute Pixel Location
Validate
Project