View In:
ArcGIS JavaScript
ArcGIS Online Map Viewer
ArcGIS Earth
ArcMap
View Footprint In:
ArcGIS Online Map Viewer
Service Description: 归一化指数产品是基于Landsat8、高分、Sentinel2等卫星遥感数据,采用标准算法生成的植被指数数据产品。该产品有效反映了各矿区在空间尺度上的植被覆盖分布和生长状况。NDVI数据产品类型为32位浮点型,值在-1和1之间,负值表示此处为云、水、雪等,对可见光高反射;0表示有岩石或裸土等;正值表示有植被覆盖,且随覆盖度增大而增大。
Name: 5_大数据平台项目数据管理_标准产品/NDVI
Description: 归一化指数产品是基于Landsat8、高分、Sentinel2等卫星遥感数据,采用标准算法生成的植被指数数据产品。该产品有效反映了各矿区在空间尺度上的植被覆盖分布和生长状况。NDVI数据产品类型为32位浮点型,值在-1和1之间,负值表示此处为云、水、雪等,对可见光高反射;0表示有岩石或裸土等;正值表示有植被覆盖,且随覆盖度增大而增大。
Single Fused Map Cache: false
Extent:
XMin: 109.790967881
YMin: 38.53531446
XMax: 109.988790401
YMax: 38.68847736
Spatial Reference: 4326
(4326)
Initial Extent:
XMin: 109.790967881
YMin: 38.53531446
XMax: 109.988790401
YMax: 38.68847736
Spatial Reference: 4326
(4326)
Full Extent:
XMin: 109.790967881
YMin: 38.53531446
XMax: 109.988790401
YMax: 38.68847736
Spatial Reference: 4326
(4326)
Pixel Size X: 1.0314000000000133E-4
Pixel Size Y: 1.0313999999999872E-4
Band Count: 1
Pixel Type: F32
RasterFunction Infos: {"rasterFunctionInfos": [
{
"name": "ClassifiedNDVI",
"description": "A raster function template.",
"help": ""
},
{
"name": "None",
"description": "",
"help": ""
}
]}
Mensuration Capabilities:
Has Histograms: true
Has Colormap: false
Has Multi Dimensions : false
Rendering Rule:
Min Scale: 0
Max Scale: 0
Copyright Text:
Service Data Type: esriImageServiceDataTypeGeneric
Min Values: -128
Max Values: 127
Mean Values: 36.38804773628462
Standard Deviation Values: 20.34942239325663
Object ID Field: objectid
Fields:
-
objectid
(
type: esriFieldTypeOID, alias: objectid
)
-
name
(
type: esriFieldTypeString, alias: name, length: 200
)
-
minps
(
type: esriFieldTypeDouble, alias: minps
)
-
maxps
(
type: esriFieldTypeDouble, alias: maxps
)
-
lowps
(
type: esriFieldTypeDouble, alias: lowps
)
-
highps
(
type: esriFieldTypeDouble, alias: highps
)
-
category
(
type: esriFieldTypeInteger, alias: category
, Coded Values:
[0: Unknown]
, [1: Primary]
, [2: Overview]
, ...6 more...
)
-
tag
(
type: esriFieldTypeString, alias: tag, length: 100
)
-
groupname
(
type: esriFieldTypeString, alias: groupname, length: 100
)
-
productname
(
type: esriFieldTypeString, alias: productname, length: 100
)
-
centerx
(
type: esriFieldTypeDouble, alias: centerx
)
-
centery
(
type: esriFieldTypeDouble, alias: centery
)
-
zorder
(
type: esriFieldTypeInteger, alias: zorder
)
-
shape
(
type: esriFieldTypeGeometry, alias: shape
)
-
jobid
(
type: esriFieldTypeString, alias: 任务编号, length: 19
)
-
st_area(shape)
(
type: esriFieldTypeDouble, alias: st_area(shape)
)
-
st_length(shape)
(
type: esriFieldTypeDouble, alias: st_length(shape)
)
Default Mosaic Method: Northwest
Allowed Mosaic Methods: NorthWest,Center,LockRaster,ByAttribute,Nadir,Viewpoint,Seamline,None
SortField:
SortValue: null
Mosaic Operator: First
Default Compression Quality: 75
Default Resampling Method: Bilinear
Max Record Count: 1000
Max Image Height: 4100
Max Image Width: 15000
Max Download Image Count: 20
Max Mosaic Image Count: 20
Allow Raster Function: true
Allow Copy: null
Allow Analysis: null
Allow Compute TiePoints: false
Supports Statistics: true
Supports Advanced Queries: true
Use StandardizedQueries: true
Raster Type Infos:
Name: Raster Dataset
Description: Supports all ArcGIS Raster Datasets
Help:
Has Raster Attribute Table: false
Edit Fields Info: null
Ownership Based AccessControl For Rasters: null
Child Resources:
Info
Histograms
Key Properties
Legend
Raster Function Infos
Supported Operations:
Export Image
Query
Identify
Compute Histograms
Compute Statistics Histograms
Get Samples
Compute Class Statistics
Query Boundary
Compute Pixel Location
Validate
Project