View In:
ArcGIS JavaScript
ArcGIS Online Map Viewer
ArcGIS Earth
ArcMap
View Footprint In:
ArcGIS Online Map Viewer
Service Description: 1_矿山监测产品/Mine_NDVI
Name: 1_矿山监测产品/Mine_NDVI
Description:
Single Fused Map Cache: false
Extent:
XMin: 107.80928976513445
YMin: 35.00294095582762
XMax: 110.91345985413446
YMax: 39.44303229882762
Spatial Reference: 4326
(4326)
Initial Extent:
XMin: 107.80928976513445
YMin: 35.00294095582762
XMax: 110.91345985413446
YMax: 39.44303229882762
Spatial Reference: 4326
(4326)
Full Extent:
XMin: 107.80928976513445
YMin: 35.00294095582762
XMax: 110.91345985413446
YMax: 39.44303229882762
Spatial Reference: 4326
(4326)
Pixel Size X: 1.0009900000000024E-4
Pixel Size Y: 1.0009899999999998E-4
Band Count: 1
Pixel Type: S8
RasterFunction Infos: {"rasterFunctionInfos": [{
"name": "None",
"description": "",
"help": ""
}]}
Mensuration Capabilities: Basic
Has Histograms: true
Has Colormap: false
Has Multi Dimensions : false
Rendering Rule:
Min Scale: 0
Max Scale: 0
Copyright Text:
Service Data Type: esriImageServiceDataTypeGeneric
Min Values: -128
Max Values: 127
Mean Values: 40.09072848633499
Standard Deviation Values: 23.232500932597503
Object ID Field: objectid
Fields:
-
objectid
(
type: esriFieldTypeOID, alias: objectid
)
-
name
(
type: esriFieldTypeString, alias: name, length: 200
)
-
minps
(
type: esriFieldTypeDouble, alias: minps
)
-
maxps
(
type: esriFieldTypeDouble, alias: maxps
)
-
lowps
(
type: esriFieldTypeDouble, alias: lowps
)
-
highps
(
type: esriFieldTypeDouble, alias: highps
)
-
category
(
type: esriFieldTypeInteger, alias: category
, Coded Values:
[0: Unknown]
, [1: Primary]
, [2: Overview]
, ...6 more...
)
-
tag
(
type: esriFieldTypeString, alias: tag, length: 100
)
-
groupname
(
type: esriFieldTypeString, alias: groupname, length: 100
)
-
productname
(
type: esriFieldTypeString, alias: productname, length: 100
)
-
centerx
(
type: esriFieldTypeDouble, alias: centerx
)
-
centery
(
type: esriFieldTypeDouble, alias: centery
)
-
zorder
(
type: esriFieldTypeInteger, alias: zorder
)
-
xzqbm
(
type: esriFieldTypeString, alias: 行政区编码, length: 12
)
-
xzqmc
(
type: esriFieldTypeString, alias: 行政区名称, length: 200
)
-
qsrq_tck
(
type: esriFieldTypeDate, alias: 起始日期, length: 8
)
-
zzrq_tcj
(
type: esriFieldTypeDate, alias: 终止日期, length: 8
)
-
zsjz
(
type: esriFieldTypeDouble, alias: 指数均值
)
-
area1
(
type: esriFieldTypeDouble, alias: -1至0值区域面积
)
-
area2
(
type: esriFieldTypeDouble, alias: 0至0.2值区域面积
)
-
area3
(
type: esriFieldTypeDouble, alias: 0.2至0.4值区域面积
)
-
area4
(
type: esriFieldTypeDouble, alias: 0.4至0.6值区域面积
)
-
area5
(
type: esriFieldTypeDouble, alias: 0.6至0.8值区域面积
)
-
area6
(
type: esriFieldTypeDouble, alias: 0.8至1值区域面积
)
-
gt60
(
type: esriFieldTypeDouble, alias: NDVI值大于0.6值区域面积
)
-
ksbm
(
type: esriFieldTypeString, alias: 矿山编码, length: 30
)
-
zttdz
(
type: esriFieldTypeString, alias: 专题图地址, length: 255
)
-
sjqy
(
type: esriFieldTypeString, alias: 三级企业, length: 200
)
-
jcqy
(
type: esriFieldTypeString, alias: 监测区域, length: 255
)
-
dcpc_tl
(
type: esriFieldTypeString, alias: 调查批次, length: 255
)
-
shape
(
type: esriFieldTypeGeometry, alias: shape
)
-
st_area(shape)
(
type: esriFieldTypeDouble, alias: st_area(shape)
)
-
st_length(shape)
(
type: esriFieldTypeDouble, alias: st_length(shape)
)
Default Mosaic Method: Northwest
Allowed Mosaic Methods: NorthWest,Center,LockRaster,ByAttribute,Nadir,Viewpoint,Seamline,None
SortField:
SortValue: null
Mosaic Operator: First
Default Compression Quality: 75
Default Resampling Method: Bilinear
Max Record Count: 1000
Max Image Height: 4100
Max Image Width: 15000
Max Download Image Count: 20
Max Mosaic Image Count: 20
Allow Raster Function: true
Allow Copy: true
Allow Analysis: true
Allow Compute TiePoints: false
Supports Statistics: true
Supports Advanced Queries: true
Use StandardizedQueries: true
Raster Type Infos:
Name: Raster Dataset
Description: Supports all ArcGIS Raster Datasets
Help:
Has Raster Attribute Table: false
Edit Fields Info: null
Ownership Based AccessControl For Rasters: null
Child Resources:
Info
Histograms
Statistics
Key Properties
Legend
Raster Function Infos
Supported Operations:
Export Image
Query
Identify
Measure
Compute Histograms
Compute Statistics Histograms
Get Samples
Compute Class Statistics
Query Boundary
Compute Pixel Location
Validate
Project